BEGIN:VCALENDAR
VERSION:2.0
PRODID:-//ChamberMaster//Event Calendar 2.0//EN
METHOD:PUBLISH
X-PUBLISHED-TTL:P3D
REFRESH-INTERVAL:P3D
CALSCALE:GREGORIAN
BEGIN:VEVENT
DTSTART:20240917T000000Z
DTEND:20240917T050000Z
X-MICROSOFT-CDO-ALLDAYEVENT:FALSE
SUMMARY:Angels vs Chicago Sox
DESCRIPTION:Angeles vs Chicago White Sox\n\n(limited seats - reserve now)\n\nPre-game Mixer in the Rose Garden at 5:00 pm\, no-host bar\, Game Ticket (Seating in Field section 106 or 108)\, Raffles\, Networking\, and more! \n\nLook for Chamber family and friends from these Chambers.  Come for the Networking\, and stay for the game!  Artesia Chamber\,  Cerritos Regional Chamber\, Chino Valley Chamber\, Commerce Industrial Council\, Downey Chamber\,  La Habra Chamber\, Lakewood Chamber\, La Mirada Chamber\, La Verne Chamber\, Montebello Chamber\, Norwalk Chamber\, Paramount Chamber\, Pico Rivera Chamber\, Rosemead Chamber\, Santa Fe Springs Chamber\, Whittier Chamber\, Yorba Linda Chamber and more!
X-ALT-DESC;FMTTYPE=text/html:<span style="font-size:14px\;"><span style="color:#FF0000\;">Angeles vs Chicago White Sox<br />\n(limited seats - reserve now)</span></span><br />\nPre-game Mixer in the Rose Garden at 5:00 pm\, no-host bar\, Game Ticket (Seating in Field section 106 or 108)\, Raffles\, Networking\, and more!&nbsp\;<br />\nLook for Chamber family and friends from these Chambers.&nbsp\; Come for the Networking\, and stay for the game!&nbsp\; Artesia Chamber\,&nbsp\; Cerritos Regional Chamber\, Chino Valley Chamber\, Commerce Industrial Council\, Downey Chamber\,&nbsp\; La Habra Chamber\, Lakewood Chamber\, La Mirada Chamber\, La Verne Chamber\, Montebello Chamber\, Norwalk Chamber\, Paramount Chamber\, Pico Rivera Chamber\, Rosemead Chamber\, Santa Fe Springs Chamber\, Whittier Chamber\, Yorba Linda Chamber and more!&nbsp\;
LOCATION:Angeles Stadium\, Anaheim (Enter at Gate 1)
UID:e.99.13276
SEQUENCE:3
DTSTAMP:20260424T204257Z
URL:https://business.rccsgv.com/events/details/angels-vs-chicago-sox-13276
END:VEVENT

END:VCALENDAR
