BEGIN:VCALENDAR
VERSION:2.0
PRODID:-//ChamberMaster//Event Calendar 2.0//EN
METHOD:PUBLISH
X-PUBLISHED-TTL:P3D
REFRESH-INTERVAL:P3D
CALSCALE:GREGORIAN
BEGIN:VEVENT
DTSTART:20260514T060000Z
DTEND:20260513T210000Z
X-MICROSOFT-CDO-ALLDAYEVENT:FALSE
SUMMARY:Private Event World Cup 2026 - (no Webinar scheduled)
DESCRIPTION:A County World Cup 2026 Fan Zone Launch Event\n\nJoin the Regional Chamber of Commerce San Gabriel Valley and regional partners for the official launch of the LA County World Cup Soccer 2026 Fan Zone at Whittier Narrows a transformative initiative designed to bring global excitement\, economic opportunity\, and community engagement to the San Gabriel Valley.\n\nEvent Details (tentative)\n\nDate: Wednesday\, May 13\, 2026\n\nLocation: DoubleTree by Hilton Los Angeles   Rosemead\n\nTime:\n\n\n	11:00 AM   Registration & Networking Lunch\n	11:30 AM   Program Begins\n	12:15 PM   Presentations\n	1:00 PM   Press Conference\n\n\nWhat to Expect\n\nThis high-impact launch event will feature presentations and announcements from key regional leaders and partners\, including LA County representatives\, transportation agencies\, and economic development organizations. Attendees will gain early insight into:\n\n\n	The vision and scope of the World Cup 2026 Fan Zone at Whittier Narrows\n	Business and vendor participation opportunities\n	Sponsorship and branding platforms\n	Regional economic impact and community activation plans\n	Pathways for local businesses to engage in global event supply chains
X-ALT-DESC;FMTTYPE=text/html:<section class="text-token-text-primary w-full focus:outline-none [--shadow-height:45px] has-data-writing-block:pointer-events-none has-data-writing-block:-mt-(--shadow-height) has-data-writing-block:pt-(--shadow-height) [&amp\;:has([data-writing-block])&gt\;*]:pointer-events-auto [content-visibility:auto] supports-[content-visibility:auto]:[contain-intrinsic-size:auto_100lvh] R6Vx5W_threadScrollVars scroll-mb-[calc(var(--scroll-root-safe-area-inset-bottom\,0px)+var(--thread-response-height))] scroll-mt-[calc(var(--header-height)+min(200px\,max(70px\,20svh)))]" data-scroll-anchor="false" data-testid="conversation-turn-2" data-turn="assistant" data-turn-id="request-WEB:607b72f9-227f-4ef1-ae45-41f5596b8fa9-0" dir="auto">\n<div class="text-base my-auto mx-auto pb-10 [--thread-content-margin:var(--thread-content-margin-xs\,calc(var(--spacing)*4))] @w-sm/main:[--thread-content-margin:var(--thread-content-margin-sm\,calc(var(--spacing)*6))] @w-lg/main:[--thread-content-margin:var(--thread-content-margin-lg\,calc(var(--spacing)*16))] px-(--thread-content-margin)">\n<div class="[--thread-content-max-width:40rem] @w-lg/main:[--thread-content-max-width:48rem] mx-auto max-w-(--thread-content-max-width) flex-1 group/turn-messages focus-visible:outline-hidden relative flex w-full min-w-0 flex-col agent-turn">\n<div class="flex max-w-full flex-col gap-4 grow">\n<div class="min-h-8 text-message relative flex w-full flex-col items-end gap-2 text-start break-words whitespace-normal outline-none keyboard-focused:focus-ring [.text-message+&amp\;]:mt-1" data-message-author-role="assistant" data-message-id="226bb953-6b0d-48c0-a282-56d9d0eb675e" data-message-model-slug="gpt-5-3" data-turn-start-message="true" dir="auto" tabindex="0">\n<div class="flex w-full flex-col gap-1 empty:hidden">\n<div class="markdown prose dark:prose-invert w-full wrap-break-word light markdown-new-styling">\n<h2 data-end="52" data-section-id="hfh59j" data-start="0"><span style="color:#FF0000\;">A County World Cup 2026 Fan Zone Launch Event</span></h2>\n\n<p data-end="357" data-start="54">Join the <span class="hover:entity-accent entity-underline inline cursor-pointer align-baseline">Regional Chamber of Commerce San Gabriel Valley</span> and regional partners for the official launch of the <strong data-end="218" data-start="154">LA County World Cup Soccer 2026 Fan Zone at Whittier Narrows</strong>&mdash\;a transformative initiative designed to bring global excitement\, economic opportunity\, and community engagement to the San Gabriel Valley.</p>\n\n<h3 data-end="381" data-section-id="1qgbsns" data-start="359">Event Details (tentative)</h3>\n\n<p data-end="489" data-start="382"><strong data-end="391" data-start="382">Date:</strong> Wednesday\, May 13\, 2026<br data-end="418" data-start="415" />\n<strong data-end="431" data-start="418">Location:</strong> DoubleTree by Hilton Los Angeles &ndash\; Rosemead<br data-end="478" data-start="475" />\n<strong data-end="487" data-start="478">Time:</strong></p>\n\n<ul data-end="626" data-start="490">\n	<li data-end="536" data-section-id="1byp9o8" data-start="490">11:00 AM &ndash\; Registration &amp\; Networking Lunch</li>\n	<li data-end="566" data-section-id="1fq3bny" data-start="537">11:30 AM &ndash\; Program Begins</li>\n	<li data-end="595" data-section-id="1oyueji" data-start="567">12:15 PM &ndash\; Presentations</li>\n	<li data-end="626" data-section-id="14erhx0" data-start="596">1:00 PM &ndash\; Press Conference</li>\n</ul>\n\n<h3 data-end="651" data-section-id="revxn4" data-start="628">What to Expect</h3>\n\n<p data-end="908" data-start="652">This high-impact launch event will feature presentations and announcements from key regional leaders and partners\, including LA County representatives\, transportation agencies\, and economic development organizations. Attendees will gain early insight into:</p>\n\n<ul data-end="1214" data-start="910">\n	<li data-end="989" data-section-id="ukrwq0" data-start="910">The vision and scope of the <strong data-end="987" data-start="940">World Cup 2026 Fan Zone at Whittier Narrows</strong></li>\n	<li data-end="1041" data-section-id="1o0ooqv" data-start="990">Business and vendor participation opportunities</li>\n	<li data-end="1080" data-section-id="1bixg8q" data-start="1042">Sponsorship and branding platforms</li>\n	<li data-end="1140" data-section-id="1a4fge4" data-start="1081">Regional economic impact and community activation plans</li>\n	<li data-end="1214" data-section-id="18akvza" data-start="1141">Pathways for local businesses to engage in global event supply chains&nbsp\;</li>\n</ul>\n</div>\n</div>\n</div>\n</div>\n</div>\n</div>\n</section>\n
LOCATION:
UID:e.99.14569
SEQUENCE:3
DTSTAMP:20260421T224057Z
URL:https://business.rccsgv.com/events/details/private-event-world-cup-2026-no-webinar-scheduled-14569
END:VEVENT

END:VCALENDAR
